BEGIN:VCALENDAR
VERSION:2.0
PRODID:-//starkballmassage - ECPv6.9.0//NONSGML v1.0//EN
CALSCALE:GREGORIAN
METHOD:PUBLISH
X-WR-CALNAME:starkballmassage
X-ORIGINAL-URL:https://www.starkballmassage.com
X-WR-CALDESC:Évènements pour starkballmassage
REFRESH-INTERVAL;VALUE=DURATION:PT1H
X-Robots-Tag:noindex
X-PUBLISHED-TTL:PT1H
BEGIN:VTIMEZONE
TZID:UTC
BEGIN:STANDARD
TZOFFSETFROM:+0000
TZOFFSETTO:+0000
TZNAME:UTC
DTSTART:20250101T000000
END:STANDARD
END:VTIMEZONE
BEGIN:VEVENT
DTSTART;TZID=UTC:20250116T080000
DTEND;TZID=UTC:20250119T180000
DTSTAMP:20260424T012835
CREATED:20200428T120523Z
LAST-MODIFIED:20250216T180616Z
UID:1215-1737014400-1737309600@www.starkballmassage.com
SUMMARY:Formation Stark Ball Intemporel en Suisse
DESCRIPTION:LE massage relaxant par excellence\, visant à favoriser la détente musculaire profonde\, combinant la fluidité des mouvements avec des pressions apaisantes\, mais appuyées\, pour équilibrer et redonner une synergie entre le corps physique et le corps émotionnel et améliorant ainsi les effets du stress pour une sensation immédiate de bien-être. \nDes mains et des gestes souples invite à l’abandon\, au relâchement musculaire et à la redécouverte sensorielle. Les manœuvres\, de rythme et de profondeur variables\, sont appliquées directement sur la peau avec de l’huile. \nIci les balles nous apportent un confort inégalable pour un lâché prise efficace. \n \nTARIF : 1200 Euros/ 4 jours par module stark Ball massage
URL:https://www.starkballmassage.com/event/formation-stark-ball-intemporel-en-suisse/
LOCATION:Suisse\, Switzerland
CATEGORIES:Formation,Lieu : Suisse
ATTACH;FMTTYPE=image/jpeg:https://www.starkballmassage.com/wp-content/uploads/2025/01/Starkball-massage-17.jpg
END:VEVENT
BEGIN:VEVENT
DTSTART;TZID=UTC:20250121T080000
DTEND;TZID=UTC:20250127T180000
DTSTAMP:20260424T012835
CREATED:20250217T111615Z
LAST-MODIFIED:20250218T080648Z
UID:24768-1737446400-1738000800@www.starkballmassage.com
SUMMARY:Visiting Thérapeute chez La Réserve à Genève en Suisse
DESCRIPTION:JE M’ADRESSE AUX SPA D’HÔTEL PRESTIGIEUX POUR VOUS PROPOSER DE FAIRE PARTIE DE VOTRE ÉQUIPE.\n  \n\n\n\n\nJe serai pendant quelques semaines et mettre à votre disposition mon savoir et ma notoriété en tant que visiting thérapeute et  qu’avec votre équipe je m’efforce de réaliser les rêves de vos clients\, de créer la magie derrière chaque expérience de soin. \nJ’ai commencé ma carrière en 1983 à la clinique Mességué\, au sein du Grand Hôtel du Golf & Palace\, Crans-Montana en Suisse et  j’y attache un souvenir ému. \nJe suis à votre disposition pour vous exposer les techniques de mon protocole Stark Ball Massage®. \nLa Réserve Genève en Suisse du 21 au 27 janvier 25.    \nEn savoir plus sur mon travail de Visiting Thérapeute : c’est ici
URL:https://www.starkballmassage.com/event/visiting-therapeute-chez-la-reserve-a-geneve-en-suisse/
LOCATION:Suisse\, Switzerland
CATEGORIES:Formation,Genève,Lieu : Suisse,Visiting Thérapeute
ATTACH;FMTTYPE=image/jpeg:https://www.starkballmassage.com/wp-content/uploads/2025/01/Starkball-massage-17.jpg
END:VEVENT
END:VCALENDAR